BEGIN:VCALENDAR
VERSION:2.0
PRODID:-//AudioTheme 3.0.2
BEGIN:VEVENT
UID:urn:uuid:f9f1e8bd-f7b2-422e-887b-32587d623d19
URL:https://elaluna.de/konzerte/urania-2/
DTSTART;VALUE=DATE:20170909
SUMMARY:Urania
LOCATION:Urania\, An der Urania 17\, Berlin\, \, 10787
END:VEVENT
END:VCALENDAR
