BEGIN:VCALENDAR
VERSION:2.0
PRODID:-//AudioTheme 3.0.2
BEGIN:VEVENT
UID:urn:uuid:088c98bc-6d41-4c7f-aa7c-4d94669d7665
URL:https://elaluna.de/konzerte/theater-am-rand/
DTSTART;TZID=GMT:20220918T000000
SUMMARY:Theater am Rand
LOCATION:Theater am Rand\, Zollbrücke 16\, Oderaue\, \, 16259
END:VEVENT
END:VCALENDAR
