BEGIN:VCALENDAR
VERSION:2.0
PRODID:-//AudioTheme 3.0.2
BEGIN:VEVENT
UID:urn:uuid:33a2cf94-d0c2-4476-9694-599767a87dd0
URL:https://elaluna.de/konzerte/schlot-3/
DTSTART;TZID=GMT:20220612T180000
SUMMARY:Kunstfabrik Schlot
DESCRIPTION:record release
LOCATION:Kunstfabrik Schlot\, Invalidenstrasse 117 (in den Edisonhöfen) Zugang auch über Schlegelstrasse 26\, Berlin\, \, 10115
END:VEVENT
END:VCALENDAR
