BEGIN:VCALENDAR
VERSION:2.0
PRODID:-//AudioTheme 3.0.2
BEGIN:VEVENT
UID:urn:uuid:b9130a83-4766-4b9e-8e97-6a8aff3d5afe
URL:https://elaluna.de/konzerte/schloss-vichel/
DTSTART;TZID=GMT:20240602T000000
SUMMARY:Gemeinschaftshaus Schloss Vichel
LOCATION:Schloss Vichel\, Gemeinschaftshaus Schloss Vichel GzF e.V. Dorfstraße 17\, Vichel ( Landkreis Ostprignitz-Ruppin)\, \, 16845
END:VEVENT
END:VCALENDAR
