BEGIN:VCALENDAR
VERSION:2.0
PRODID:-//AudioTheme 3.0.2
BEGIN:VEVENT
UID:urn:uuid:20800aac-28ad-4192-86e5-c7d083652198
URL:https://elaluna.de/konzerte/schloessernacht-potsdam/
DTSTART;VALUE=DATE:20180817
SUMMARY:Schlössernacht Potsdam
LOCATION:Schlössernacht\, Potsdam\, 
END:VEVENT
END:VCALENDAR
