BEGIN:VCALENDAR
VERSION:2.0
PRODID:-//AudioTheme 3.0.2
BEGIN:VEVENT
UID:urn:uuid:b1f54db9-b933-4dda-a5a3-73c1e4e323c9
URL:https://elaluna.de/konzerte/museum-pankow/
DTSTART;TZID=GMT:20230621T000000
SUMMARY:Museum Pankow
LOCATION:Museum Pankow\, Prenzlauer Allee 227/228\, Berlin\, \, 10405
END:VEVENT
END:VCALENDAR
