BEGIN:VCALENDAR
VERSION:2.0
PRODID:-//AudioTheme 3.0.2
BEGIN:VEVENT
UID:urn:uuid:e35a06de-cd72-4492-b539-dd07d3686db2
URL:https://elaluna.de/konzerte/moeckernkiez/
DTSTART;TZID=GMT:20220605T000000
SUMMARY:Möckernkiez
LOCATION:Möckernkiez\, Möckernkiez 1\, Berlin\, \, 10963
END:VEVENT
END:VCALENDAR
