BEGIN:VCALENDAR
VERSION:2.0
PRODID:-//AudioTheme 3.0.2
BEGIN:VEVENT
UID:urn:uuid:787dfd81-81fb-4806-9a48-2e53178fd47f
URL:https://elaluna.de/konzerte/meerbaumhaus-3/
DTSTART;TZID=GMT:20220826T160000
SUMMARY:Meerbaum-Haus
LOCATION:Meerbaum-Haus\, Siegmunds Hof 20\, Berlin\, \, 10555
END:VEVENT
END:VCALENDAR
