BEGIN:VCALENDAR
VERSION:2.0
PRODID:-//AudioTheme 3.0.2
BEGIN:VEVENT
UID:urn:uuid:33128c77-53a5-4a8f-a358-fd34bb6e08e8
URL:https://elaluna.de/konzerte/kunsthof-koepenick/
DTSTART;TZID=GMT:20230514T000000
SUMMARY:Kunsthof Köpenick
LOCATION:Kunsthof Köpenick\, Alt-Köpenick 12\, Berlin\, \, 12555
END:VEVENT
END:VCALENDAR
