BEGIN:VCALENDAR
VERSION:2.0
PRODID:-//AudioTheme 3.0.2
BEGIN:VEVENT
UID:urn:uuid:94ab66a4-371d-45d3-9e32-d37b41b6f4c0
URL:https://elaluna.de/konzerte/kulturhaus-spandau-4/
DTSTART;TZID=GMT:20211002T000000
SUMMARY:Kulturhaus Spandau
DESCRIPTION:AUSVERKAUFT!
LOCATION:Kulturhaus Spandau\, Mauerstraße 6\, Berlin\, \, 13597
END:VEVENT
END:VCALENDAR
