BEGIN:VCALENDAR
VERSION:2.0
PRODID:-//AudioTheme 3.0.2
BEGIN:VEVENT
UID:urn:uuid:340ef354-1df0-499f-8ba5-59259bbfcb53
URL:https://elaluna.de/konzerte/gig-5240/
DTSTART;TZID=GMT:20240624T000000
SUMMARY:Fanmeile
LOCATION:Fanmeile\, Augustusplatz\, Leipzig\, 
END:VEVENT
END:VCALENDAR
