BEGIN:VCALENDAR
VERSION:2.0
PRODID:-//AudioTheme 3.0.2
BEGIN:VEVENT
UID:urn:uuid:6df3eb92-49da-4805-b00f-751467fa43f5
URL:https://elaluna.de/konzerte/gig-5200/
DTSTART;TZID=GMT:20240715T000000
SUMMARY:Altstadt Spandau
LOCATION:Altstadt Spandau\, Reformationsplatz an der Kirche St. Nikolai\, Berlin-Spandau\, \, 13597
END:VEVENT
END:VCALENDAR
