BEGIN:VCALENDAR
VERSION:2.0
PRODID:-//AudioTheme 3.0.2
BEGIN:VEVENT
UID:urn:uuid:4ed138d5-7391-4cf6-b25a-169119ffdb11
URL:https://elaluna.de/konzerte/gig-3292/
DTSTART;TZID=GMT:20220619T000000
SUMMARY:Stüler-Kirche
LOCATION:Stüler-Kirche\, Brodowiner Dorfstraße 6\, Brodowin\, \, 16230
END:VEVENT
END:VCALENDAR
