BEGIN:VCALENDAR
VERSION:2.0
PRODID:-//AudioTheme 3.0.2
BEGIN:VEVENT
UID:urn:uuid:de523034-cad4-434f-889b-6ac1d2c1f009
URL:https://elaluna.de/konzerte/gig-3283/
DTSTART;TZID=GMT:20220513T000000
SUMMARY:Petruskirche
LOCATION:Petruskirche\, Oberhofer Platz\, Berlin\, \, 12209
END:VEVENT
END:VCALENDAR
