BEGIN:VCALENDAR
VERSION:2.0
PRODID:-//AudioTheme 3.0.2
BEGIN:VEVENT
UID:urn:uuid:5627f9ee-9194-4386-b762-0bacb1e5fd5e
URL:https://elaluna.de/konzerte/gig-3271/
DTSTART;TZID=GMT:20220213T190000
SUMMARY:Kunstfabrik Schlot
LOCATION:Kunstfabrik Schlot\, Invalidenstrasse 117 (in den Edisonhöfen) Zugang auch über Schlegelstrasse 26\, Berlin\, \, 10115
END:VEVENT
END:VCALENDAR
