BEGIN:VCALENDAR
VERSION:2.0
PRODID:-//AudioTheme 3.0.2
BEGIN:VEVENT
UID:urn:uuid:7fc11e92-cc4b-4943-ba13-af3c1349f68a
URL:https://elaluna.de/konzerte/galerie-bild-plus/
DTSTART;TZID=GMT:20230611T000000
SUMMARY:Galerie Bild Plus
LOCATION:Galerie Bild Plus\, Am Goldmannpark 20\, Berlin- Friedrichshagen\, \, 12587
END:VEVENT
END:VCALENDAR
