BEGIN:VCALENDAR
VERSION:2.0
PRODID:-//AudioTheme 3.0.2
BEGIN:VEVENT
UID:urn:uuid:9c4031c5-e867-4cb8-a116-bc41292ad030
URL:https://elaluna.de/konzerte/erlangen/
DTSTART;TZID=GMT:20230317T000000
SUMMARY:Erlangen
LOCATION:Marienkonzerte Erlangen\, Malteser Waldkrankenhaus\, Erlangen\, 
END:VEVENT
END:VCALENDAR
