BEGIN:VCALENDAR
VERSION:2.0
PRODID:-//AudioTheme 3.0.2
BEGIN:VEVENT
UID:urn:uuid:239984ca-1f53-4637-ac10-8ad489d16ae5
URL:https://elaluna.de/konzerte/die-plantage/
DTSTART;VALUE=DATE:20240629
SUMMARY:Die Plantage
LOCATION:Die Plantage - Haus der Generationen\, Plantage 86\, Wolfsburg\, \, 38444
END:VEVENT
END:VCALENDAR
