BEGIN:VCALENDAR
VERSION:2.0
PRODID:-//AudioTheme 3.0.2
BEGIN:VEVENT
UID:urn:uuid:bdbd9ef1-5b84-41ae-b882-621dd8286618
URL:https://elaluna.de/konzerte/berlin/
DTSTART;TZID=GMT:20230608T000000
SUMMARY:Berlin
DESCRIPTION:4 Lieder im Rahmen einer Ausstellungseröffnung
LOCATION:Museum Pankow\, Prenzlauer Allee 227/228\, Berlin\, \, 10405
END:VEVENT
END:VCALENDAR
