BEGIN:VCALENDAR
VERSION:2.0
PRODID:-//AudioTheme 3.0.2
BEGIN:VEVENT
UID:urn:uuid:8ce8f583-cc2d-4b02-a65f-ff393d3566f8
URL:https://elaluna.de/konzerte/babylon-europa/
DTSTART;TZID=GMT:20220604T000000
SUMMARY:Babylon Europa
LOCATION:Britzer Garten\, Sangerhauser Weg 1\, Berlin\, \, 12349
END:VEVENT
END:VCALENDAR
