BEGIN:VCALENDAR
VERSION:2.0
PRODID:-//AudioTheme 3.0.2
BEGIN:VEVENT
UID:urn:uuid:2950ab46-9c2b-47c8-bd6a-664302b47875
URL:https://elaluna.de/konzerte/alte-bahnhofshalle-friedenau-3/
DTSTART;TZID=GMT:20220320T000000
SUMMARY:Alte Bahnhofshalle Friedenau
LOCATION:Alte Bahnhofshalle Friedenau\, Bahn­hof­straße 4 a-d\, Berlin\, \, 12159
END:VEVENT
END:VCALENDAR
