BEGIN:VCALENDAR
VERSION:2.0
PRODID:-//AudioTheme 3.0.2
BEGIN:VEVENT
UID:urn:uuid:b0e00831-d160-496b-b2dd-b06638e26493
URL:https://elaluna.de/konzerte/2022-07-16/
DTSTART;VALUE=DATE:20220723
SUMMARY:Workshop
END:VEVENT
END:VCALENDAR
