BEGIN:VCALENDAR
VERSION:2.0
PRODID:-//AudioTheme 3.0.2
BEGIN:VEVENT
UID:urn:uuid:0b23af19-1acd-439e-8723-49d283a01fd7
URL:https://elaluna.de/konzerte/15-07-2017/
DTSTART;VALUE=DATE:20170715
SUMMARY:workshop
END:VEVENT
END:VCALENDAR
